BEGIN:VCALENDAR
VERSION:2.0
PRODID:-//Életút konzultáció - ECPv6.15.13.1//NONSGML v1.0//EN
CALSCALE:GREGORIAN
METHOD:PUBLISH
X-ORIGINAL-URL:https://www.eletutkonzultacio.hu
X-WR-CALDESC:Események Életút konzultáció
REFRESH-INTERVAL;VALUE=DURATION:PT1H
X-Robots-Tag:noindex
X-PUBLISHED-TTL:PT1H
BEGIN:VTIMEZONE
TZID:Europe/Budapest
BEGIN:DAYLIGHT
TZOFFSETFROM:+0100
TZOFFSETTO:+0200
TZNAME:CEST
DTSTART:20170326T010000
END:DAYLIGHT
BEGIN:STANDARD
TZOFFSETFROM:+0200
TZOFFSETTO:+0100
TZNAME:CET
DTSTART:20171029T010000
END:STANDARD
BEGIN:DAYLIGHT
TZOFFSETFROM:+0100
TZOFFSETTO:+0200
TZNAME:CEST
DTSTART:20180325T010000
END:DAYLIGHT
BEGIN:STANDARD
TZOFFSETFROM:+0200
TZOFFSETTO:+0100
TZNAME:CET
DTSTART:20181028T010000
END:STANDARD
BEGIN:DAYLIGHT
TZOFFSETFROM:+0100
TZOFFSETTO:+0200
TZNAME:CEST
DTSTART:20190331T010000
END:DAYLIGHT
BEGIN:STANDARD
TZOFFSETFROM:+0200
TZOFFSETTO:+0100
TZNAME:CET
DTSTART:20191027T010000
END:STANDARD
BEGIN:DAYLIGHT
TZOFFSETFROM:+0100
TZOFFSETTO:+0200
TZNAME:CEST
DTSTART:20200329T010000
END:DAYLIGHT
BEGIN:STANDARD
TZOFFSETFROM:+0200
TZOFFSETTO:+0100
TZNAME:CET
DTSTART:20201025T010000
END:STANDARD
BEGIN:DAYLIGHT
TZOFFSETFROM:+0100
TZOFFSETTO:+0200
TZNAME:CEST
DTSTART:20210328T010000
END:DAYLIGHT
BEGIN:STANDARD
TZOFFSETFROM:+0200
TZOFFSETTO:+0100
TZNAME:CET
DTSTART:20211031T010000
END:STANDARD
END:VTIMEZONE
BEGIN:VEVENT
DTSTART;TZID=Europe/Budapest:20200901T080000
DTEND;TZID=Europe/Budapest:20200901T170000
DTSTAMP:20260422T104215
CREATED:20200831T071749Z
LAST-MODIFIED:20200831T071749Z
UID:3246-1598947200-1598979600@www.eletutkonzultacio.hu
SUMMARY:ddd
DESCRIPTION:ffff
URL:https://www.eletutkonzultacio.hu/esemeny/ddd/
END:VEVENT
BEGIN:VEVENT
DTSTART;TZID=Europe/Budapest:20190426T163000
DTEND;TZID=Europe/Budapest:20190426T200000
DTSTAMP:20260422T104215
CREATED:20210314T214215Z
LAST-MODIFIED:20200602T145212Z
UID:2352-1556296200-1556308800@www.eletutkonzultacio.hu
SUMMARY:Teremts jobb kapcsolatokat! Légy kapcsolatépítő!
DESCRIPTION:Játékos önismereti parti játékos kedvűeknek\, akik tanulni is szeretnek magukról\n\nNehezen szerzel kapcsolatokat?\nA régiek meg már leépültek\, nem keresnek…\nLehet\, hogy elmagányosodtál?\n\nMi lehet a hiba? \n\nSzükséged lenne a munkádban is új kapcsolatokra!\nVállalkozóként egyenesen kötelező a kapcsolatépítés!\nRendezvényeken nehezen szerzel új kapcsolatokat.\n\nJátékosan átvizsgáljuk a szokásaidat\, kapsz új tippeket kapcsolatépítő szokások kialakítására.\nÖtleteket kaphatsz hogyan cseréld le a rossz szokásaidat és szépen\, fokozatosan hogyan építs egy olyan szokásrendszert\, amely megőrzi a régi barátokat és új kapcsolatokat teremthetsz vele. \nTanulsz mások tapasztalataiból\, lehet ők már kipróbálták\, amit te nem.\nJátékosan tudatosítod magadban mit csinálsz jól és min kell javítanod!\nJó társaságban töltöd a 3 és fél órát! \nA tréning kis csoportban folyik\, résztvevők száma: 4-8 fő. \nRészvételi díj: 2 000 Ft önköltségi ár. \n\n\nRónai Kata már járt nálunk szokáspartin: \n \n\n“Nyitott bizalmi légkör. Eredményessége megfelelően áramló és jól felépített. Bizalmat hoztam\, bizalmat viszek! \nRónai Katalin tanár\, bábkészítő művész \n  \nAki a workshopot tartja: \n \nTöbbszörös pályaváltó vagyok\, de életemet végigkísérte az emberek oktatása\, segítése. Jelenleg pályaváltókat\, olyan embereket segítek\, akik változtatni szeretnének önmagukon és a fejlődéstől\, tanulástól sem idegenkednek. Tanulni jó! \nSegítek\, hogy neked is sikerüljön – változni mindig elhatározás és kitartás kérdése. Az eredmények jönnek! \nKovács Márta\, életút konzulens\, coach \n\n\n  \nJelentkezés: \n  \nBetöltés… \n 
URL:https://www.eletutkonzultacio.hu/esemeny/teremts-jobb-kapcsolatokat-legy-kapcsolatepito/
LOCATION:Astóriánál
ATTACH;FMTTYPE=image/png:https://www.eletutkonzultacio.hu/wp-content/uploads/2019/03/conversation-799448_1280.png
END:VEVENT
BEGIN:VEVENT
DTSTART;TZID=Europe/Budapest:20190401T093000
DTEND;TZID=Europe/Budapest:20190401T123000
DTSTAMP:20260422T104215
CREATED:20190215T113620Z
LAST-MODIFIED:20190319T095618Z
UID:2266-1554111000-1554121800@www.eletutkonzultacio.hu
SUMMARY:Anyu dolgozni készül. Munkára hangoló tréning kismamáknak
DESCRIPTION:• Állandóan egyedül vagy a gyerekkel\, nem látsz ki a problémáidból?\n• Hiányzik a munka\, a kollégák\, de fontos nekem a család is!\n• Jól jönne a pénz\, de a gyerekre is szeretnél odafigyelni…ez napi 8-10 óra munka mellett nem fog menni\n• Ha beteg a gyerekem\, nem tudok odafigyelni a munkámra!\n• Jó lenne a részmunkaidő talán? \nA kismamáknak hirdetett kiscsoportban az ÚJRA VISSZA A MUNKÁBA kérdéskörét járjuk körbe a csoportos coaching módszereivel. A program közösségi élményt\, nem várt megoldásokat hoz. Az „adsz és kapsz” – biztosítja\, hogy új megoldásokra bukkansz. \nMikor ajánljuk a programot? \n• Boldog kiegyensúlyozott életre vágysz\, akinek fontos a munkája és a család is\n• Visszamennél a munkahelyedre\, de kételyeid vannak\, jó lesz-e a családnak\n• Inkább vállalkoznál\, de nem mersz belefogni\n• Keresed az utad\, a hivatásod és a családban is boldog\, elégedett szeretnél lenni \nAmivel gyarapodsz a tréning végére: \n• világosan látod a céljaidat\, mit is szeretnél igazán\n• az önismereted fejlődni fog\n• jó társaságban\, jó hangulatban jutsz eredményre\, úgy érzed majd\, haladtál! \nAjándék!\n\n• Minden jelentkező megkapja a „Meríts erőt a múltadból!” Célkitűző életútnapló útkeresőknek példányát \, amellyel továbbgondolhatod a tréning tanulságait. Az ajándék értéke 7 500 Ft! \n• A Célkitűző életútnaplóhoz 1 alkalommal kedvezményes konzultáció is jár. \nRészvételi díj: 6 000 Ft \nMaximum 5 fő részvételével zajlik a workshop. \n 
URL:https://www.eletutkonzultacio.hu/esemeny/anyu-dolgozni-keszul-munkara-hangolo-trening-kismamaknak-3/
LOCATION:Pötty\, Kossuth Lajos u. 6.\, Budapest\, XXII.\, 1221
END:VEVENT
BEGIN:VEVENT
DTSTART;TZID=Europe/Budapest:20190331T100000
DTEND;TZID=Europe/Budapest:20190331T160000
DTSTAMP:20260422T104215
CREATED:20190314T221323Z
LAST-MODIFIED:20190314T223434Z
UID:2358-1554026400-1554048000@www.eletutkonzultacio.hu
SUMMARY:Kapcsolódj (ki) nőként\, anyaként!
DESCRIPTION:Nehéz kilépni a szerepeinkből\, a mindennapi automatizmusokból! A családi mintákkal együttélünk és csodálkozunk\, hogy állandóan fáradtak\, elégedetlenek\, enerváltak vagyunk. Tisztában vagyunk azzal mire van igényünk\, mi az\, ami kikapcsol\, tölt bennünket? Sokszor csak a testünk jelez\, hogy nincsenek rendben a dolgok körülöttünk. A férj\, a gyerek\, a munkatársak… valakivel mindig bajunk van\, pedig csak át kellene kódolnunk a pihenés\, kikapcsolódás kereteit és szokásait. Boldog anya\, nő\, boldog család! A workshopon kreatív technikákkal lépünk közelebb magunkhoz\, bátorságot\, ötleteket merítünk az egymáshoz kapcsolódásból. \nA rendezvény a Coaching az egész családnak családi viszonyok / családi viszályok c. rendezvény programja \nSzervező: CoachOK Szakmai Szövetség \nA belépőjeggyel a teljes nap összes programja látogatható >>> \nHelyszín: MEMO Ház\, 1077 BUDAPEST\, WESSELÉNYI U. 73. \nAki a workshopot tartja: \n \nTöbbszörös pályaváltó vagyok\, de életemet végigkísérte az emberek oktatása\, segítése. Jelenleg pályaváltókat\, olyan embereket segítek\, akik változtatni szeretnének önmagukon és a fejlődéstől\, tanulástól sem idegenkednek. Tanulni jó! \nSegítek\, hogy neked is sikerüljön – változni mindig elhatározás és kitartás kérdése. Az eredmények jönnek! \nKovács Márta\, életút konzulens\, coach
URL:https://www.eletutkonzultacio.hu/esemeny/kapcsolodj-ki-nokent-anyakent/
LOCATION:Memo Ház\, WESSELÉNYI U. 73.\, Budapeat\, 1077\, Magyarország
ATTACH;FMTTYPE=image/jpeg:https://www.eletutkonzultacio.hu/wp-content/uploads/2019/03/vision-e1552602701650.jpg
END:VEVENT
BEGIN:VEVENT
DTSTART;TZID=Europe/Budapest:20190329T163000
DTEND;TZID=Europe/Budapest:20190329T200000
DTSTAMP:20260422T104215
CREATED:20190215T123256Z
LAST-MODIFIED:20190327T152655Z
UID:2268-1553877000-1553889600@www.eletutkonzultacio.hu
SUMMARY:Időbűvészet –  időkezelés tudatosan
DESCRIPTION:Játékos önismereti parti játékos kedvűeknek\, aki tanulni is szeretnek magukról\n\nNem tudod hol áll a fejed? Mindig vannak elintézetlen ügyeid?\n\nStresszes vagy!\n\nA munkádban sem tudod tartani a határidőket?\n\nÁllandó rohanásban vagy\, sokszor ég a fejed az állandó csúszás miatt.\n\nMindig halogatsz\, így aztán összesűrűsödnek az elintézetlen teendőid.\n\nNem haladnak előre a dolgaid\, ahogyan szeretnéd!\n\nEgyszerűen nem érted hogyan lehet összeegyeztetni a háztartást\, a gyereknevelést és munkát?\n\nAmikor csinálsz valamit azon jár az agyad mit felejtettél el!\n\nNem jutsz előre a munkádban\, nem bíznak rád olyan feladatot\, amit szeretnél!\n\nEz lehangol és tanácstalan vagy\, lehet\, hogy rossz az időgazdálkodásod!\nMagadra ismertél! Most változtathatsz\, mert helyetted nem teszi meg senki!\n\nA játékos önismereti partin felismered majd mit csinálsz rosszul.\nÖtleteket kaphatsz hogyan cseréld le a rossz szokásaidat és szépen\, fokozatosan hogyan építs egy olyan szokásrendszert\, amely előre visz a vágyott nyugalom és siker felé\, ha elkezded alkalmazni!\nTanulsz mások tapasztalataiból\, lehet ők már kipróbálták\, amit te nem\nJátékosan tudatosítod magadban mit csinálsz jól és min kell javítanod!\nJó társaságban töltöd a 3 és fél órát!\n\nA workshop időpontja: 2019. március 29. péntek 16.30 – 20 óráig.  \nA tréning kis csoportban folyik\, résztvevők száma: 4-8 fő. \nRészvételi díj: 2 000 Ft önköltségi ár. \nVéleményem: \n \n\n„Nyitott bizalmi légkör. Eredményessége megfelelően áramló és jól felépített. Bizalmat hoztam\, bizalmat viszek! \nRónai Katalin tanár\, bábkészítő művész \n  \nAki a workshopot tartja: \n \nTöbbszörös pályaváltó vagyok\, de életemet végigkísérte az emberek oktatása\, segítése. Jelenleg pályaváltókat\, olyan embereket segítek\, akik változtatni szeretnének önmagukon és a fejlődéstől\, tanulástól sem idegenkednek. Tanulni jó! \nSegítek\, hogy neked is sikerüljön – változni mindig elhatározás és kitartás kérdése. Az eredmények jönnek! \nKovács Márta\, életút konzulens\, coach \n  \nJelentkezés: \nBetöltés… \n  \nInformáció: Kovács Márta\, komartt@t-online.hu\, 06304030075
URL:https://www.eletutkonzultacio.hu/esemeny/idobuveszet-jatekos-idokezeles-tudatosan/
CATEGORIES:szokáspartik
ATTACH;FMTTYPE=image/jpeg:https://www.eletutkonzultacio.hu/wp-content/uploads/2019/02/time-488112_1280.jpg
END:VEVENT
BEGIN:VEVENT
DTSTART;TZID=Europe/Budapest:20190320T093000
DTEND;TZID=Europe/Budapest:20190320T123000
DTSTAMP:20260422T104215
CREATED:20190128T184845Z
LAST-MODIFIED:20190128T190609Z
UID:2230-1553074200-1553085000@www.eletutkonzultacio.hu
SUMMARY:Anyu dolgozni készül! Munkára hangoló tréning kismamáknak
DESCRIPTION:• Állandóan egyedül vagy a gyerekkel\, nem látsz ki a problémáidból?\n• Hiányzik a munka\, a kollégák\, de fontos nekem a család is!\n• Jól jönne a pénz\, de a gyerekre is szeretnél odafigyelni…ez napi 8-10 óra munka mellett nem fog menni\n• Ha beteg a gyerekem\, nem tudok odafigyelni a munkámra!\n• Jó lenne a részmunkaidő talán? \nA kismamáknak hirdetett kiscsoportban az ÚJRA VISSZA A MUNKÁBA kérdéskörét járjuk körbe a csoportos coaching módszereivel. A program közösségi élményt\, nem várt megoldásokat hoz. Az „adsz és kapsz” – biztosítja\, hogy új megoldásokra bukkansz. \nMikor ajánljuk a programot? \n• Boldog kiegyensúlyozott életre vágysz\, akinek fontos a munkája és a család is\n• Visszamennél a munkahelyedre\, de kételyeid vannak\, jó lesz-e a családnak\n• Inkább vállalkoznál\, de nem mersz belefogni\n• Keresed az utad\, a hivatásod és a családban is boldog\, elégedett szeretnél lenni \nAmivel gyarapodsz a tréning végére: \n• világosan látod a céljaidat\, mit is szeretnél igazán\n• az önismereted fejlődni fog\n• jó társaságban\, jó hangulatban jutsz eredményre\, úgy érzed majd\, haladtál! \nAjándék!\n\n• Minden jelentkező megkapja a „Meríts erőt a múltadból!” Célkitűző életútnapló útkeresőknek példányát \, amellyel továbbgondolhatod a tréning tanulságait. Az ajándék értéke 7 500 Ft! \n• A Célkitűző életútnaplóhoz 1 alkalommal kedvezményes konzultáció is jár. \nRészvételi díj: 6 000 Ft \nMaximum 5 fő részvételével zajlik a workshop. \nBetöltés… \nInformáció kérhető: 06304030075\, komartt@t-online.hu \nHelyszín: HellóAnyu Közösségi Tér és Kávézó (1077 Budapest\, Csányi u. 7.) \nA tréner: Kovács Márta\, életút konzulens\, DÉT szakértő\, coach\, www.eletutkonzultacio.hu
URL:https://www.eletutkonzultacio.hu/esemeny/anyu-dolgozni-keszul-munkara-hangolo-trening-kismamaknak-2/
ATTACH;FMTTYPE=image/jpeg:https://www.eletutkonzultacio.hu/wp-content/uploads/2019/01/mommy-clipart-busy-mom-688671-8678156.jpg
END:VEVENT
BEGIN:VEVENT
DTSTART;TZID=Europe/Budapest:20190125T170000
DTEND;TZID=Europe/Budapest:20190125T200000
DTSTAMP:20260422T104215
CREATED:20181216T182952Z
LAST-MODIFIED:20190120T204029Z
UID:2142-1548435600-1548446400@www.eletutkonzultacio.hu
SUMMARY:TELTHÁZ! Sikerrituálék – játékos önismereti parti
DESCRIPTION:Új évkor mindenki fogadkozik másképp csinálja\, megfogalmazza\, mit szeretne elérni. Jó esetben Te már végiggondolod az óév végén hova jutottál és miben szeretnél fejlődni! \nTudod\, hogy a sikeres embereknek sikeres szokásai vannak? Érdekel\, hogy milyen szokásokra van szükséged\, hogy eredményt érj el? \nA 3 órás parti alatt játékosan\, egy önismereti játék segítségével közösen végiggondoljuk a szokásaidat\, átbeszéljük miben kellene változtatnod\, milyen új szokásokat kell majd beépíteni az életedbe\, hogy jöjjenek az eredmények.\nA csoporttól visszajelzéseket\, ötleteket kapsz majd\, hiszen ami másnál beválik\, neked is megfelelhet\, csak ki kell próbálnod! \nA partin útmutatást is kapsz majd hogyan lehet a szokásokat elindítani és megtartani\, életünk részévé tenni. \nA játékon túl jól fogod érezni magad\, új ismerősökre\, akár barátokra is lelhetsz! A hasonló törekvésű emberek társasága mindig jó hatással van ránk\, mert nem érezzük úgy a környezetünkben\, hogy kakukktojások vagyunk. Jó emberektől sokat tanulhatunk. \nA parti önköltsége: 1 500 Ft. Előre fizetendő\, díjbekérő alapján. \nMaximális résztvevők száma: 8 fő.\nA partit Kovács Márta\, életút konzulens\, coach vezeti. (Ha kérdésed van\, keress meg\, 06304030075\,\nkomartt@t-online.hu) \nRólam részletesen ITT olvashatsz. \nJelentkezés: \nBetöltés…
URL:https://www.eletutkonzultacio.hu/esemeny/sikerritualek-jatekos-onismereti-parti/
LOCATION:Astóriánál
ATTACH;FMTTYPE=image/jpeg:https://www.eletutkonzultacio.hu/wp-content/uploads/2018/12/pexels-photo-515169.jpeg
END:VEVENT
BEGIN:VEVENT
DTSTART;TZID=Europe/Budapest:20190118T093000
DTEND;TZID=Europe/Budapest:20190118T123000
DTSTAMP:20260422T104215
CREATED:20181017T090402Z
LAST-MODIFIED:20190118T070411Z
UID:1918-1547803800-1547814600@www.eletutkonzultacio.hu
SUMMARY:Anyu dolgozni készül! Munkára hangoló tréning kismamáknak
DESCRIPTION:• Állandóan egyedül vagy a gyerekkel\, nem látsz ki a problémáidból?\n• Hiányzik a munka\, a kollégák\, de fontos nekem a család is!\n• Jól jönne a pénz\, de a gyerekre is szeretnél odafigyelni…ez napi 8-10 óra munka mellett nem fog menni\n• Ha beteg a gyerekem\, nem tudok odafigyelni a munkámra!\n• Jó lenne a részmunkaidő talán? \nA kismamáknak hirdetett kiscsoportban az ÚJRA VISSZA A MUNKÁBA kérdéskörét járjuk körbe a csoportos coaching módszereivel. A program közösségi élményt\, nem várt megoldásokat hoz. Az „adsz és kapsz” – biztosítja\, hogy új megoldásokra bukkansz. \nMikor ajánljuk a programot? \n• Boldog kiegyensúlyozott életre vágysz\, akinek fontos a munkája és a család is\n• Visszamennél a munkahelyedre\, de kételyeid vannak\, jó lesz-e a családnak\n• Inkább vállalkoznál\, de nem mersz belefogni\n• Keresed az utad\, a hivatásod és a családban is boldog\, elégedett szeretnél lenni \nAmivel gyarapodsz a tréning végére: \n• világosan látod a céljaidat\, mit is szeretnél igazán\n• az önismereted fejlődni fog\n• jó társaságban\, jó hangulatban jutsz eredményre\, úgy érzed majd\, haladtál! \nAjándék!\n\n• Minden jelentkező megkapja a „Meríts erőt a múltadból!” Célkitűző életútnapló útkeresőknek példányát \, amellyel továbbgondolhatod a tréning tanulságait. Az ajándék értéke 7 500 Ft! \n• A Célkitűző életútnaplóhoz 1 alkalommal kedvezményes konzultáció is jár. \nRészvételi díj: 6 000 Ft \nMaximum 5 fő részvételével zajlik a workshop. \nJelentkezés >>> \nInformáció kérhető: 06304030075\, komartt@t-online.hu \nHelyszín: Pötty Könyvesbolt\, Budapest\, XXII. Kossuth Lajos u. 6. \nHamarosan jövünk újabb időponttal és helyszínnel! Ha lemaradtál írj e-mailt és értesítelek a következő időpontról! \nA tréner: Kovács Márta\, életút konzulens\, DÉT szakértő\, coach\, www.eletutkonzultacio.hu
URL:https://www.eletutkonzultacio.hu/esemeny/anyu-dolgozni-keszul-munkara-hangolo-trening-kismamaknak/
LOCATION:Pötty\, Kossuth Lajos u. 6.\, Budapest\, XXII.\, 1221
ATTACH;FMTTYPE=image/jpeg:https://www.eletutkonzultacio.hu/wp-content/uploads/2018/10/kismamaobuda.jpg
END:VEVENT
BEGIN:VEVENT
DTSTART;TZID=Europe/Budapest:20181214T150000
DTEND;TZID=Europe/Budapest:20181214T180000
DTSTAMP:20260422T104215
CREATED:20181018T195348Z
LAST-MODIFIED:20181115T215936Z
UID:1928-1544799600-1544810400@www.eletutkonzultacio.hu
SUMMARY:HEPPI PÉNTEK
DESCRIPTION:Minden hónap egyik napján ALKALMI LEHETŐSÉGET kínálok személyes\, vagy skype első konzultációra! 3 jelentkezőtől ingyenes mindenkinek a konzultáció! \n1\, illetve 2 fő számára (ha nem jelentkezik 3 fő)\, 50 %-os konzultációt biztosítok (7 000 Ft/óra). A kedvezményes lehetőséget beszámítom a 4 alkalmas bérlet árába\, azaz\, akár így is ingyenes lehet a pénteked! Nézd meg\, miben tudok segíteni! \nItt vannak az időpontok\, foglalj most\, nehogy 4. legyél! >>>
URL:https://www.eletutkonzultacio.hu/esemeny/heppi-pentek/
LOCATION:Astóriánál
ATTACH;FMTTYPE=image/png:https://www.eletutkonzultacio.hu/wp-content/uploads/2018/10/heppi.png
END:VEVENT
BEGIN:VEVENT
DTSTART;TZID=Europe/Budapest:20181121T100000
DTEND;TZID=Europe/Budapest:20181121T130000
DTSTAMP:20260422T104215
CREATED:20181024T133655Z
LAST-MODIFIED:20181024T133655Z
UID:1954-1542794400-1542805200@www.eletutkonzultacio.hu
SUMMARY:GONDOLD ÚJRA! Vissza a munkába gyerekkel?
DESCRIPTION:A kismamáknak hirdetett kiscsoportban az ÚJRA VISSZA A MUNKÁBA kérdéskörét járjuk körbe a csoportos coaching módszereivel. A program közösségi élményt\, nem várt megoldásokat hoz. Az „adsz és kapsz” – biztosítja\, hogy új megoldásokra bukkansz. \nAmivel gyarapodsz a tréning végére:\n• világosan látod a céljaidat\, mit is szeretnél igazán\n• az önismereted fejlődni fog\n• jó társaságban\, jó hangulatban jutsz eredményre\, úgy érzed majd\, haladtál! \nAjándék!\n• Minden jelentkező megkapja a „Meríts erőt a múltadból!” Célkitűző életútnapló útkeresőknek digitális példányát (értéke: 2 400 Ft\, megoldás garanciával)\, amellyel továbbgondolhatod a tréning tanulságait.\n• A Célkitűző életútnaplóhoz 1 alkalommal kedvezményes konzultáció is jár. \nKinek ajánljuk?\n• visszamennél a munkahelyedre\, de kételyeid vannak\, jó lesz-e a családnak\n• inkább vállalkoznál\, de nem mersz belefogni\n• keresed az utad\, a hivatásod és a családban is boldog\, elégedett szeretnél lenni. \nA program kiscsoportban zajlik: 4-6 fő részvételével\, regisztráció után! \nA részvétel egyedülálló szülők számára ingyenes! \nA beszélgetés ideje alatt a szervező gyermekfelügyeletet biztosít\, melyet előzetesen a herenik.dorottya@egyszulo.hu e-mailen előzetesen kell jelezni. \nJelentkezés a szervező honlapján >>>
URL:https://www.eletutkonzultacio.hu/esemeny/gondold-ujra-vissza-a-munkaba-gyerekkel/
ATTACH;FMTTYPE=image/jpeg:https://www.eletutkonzultacio.hu/wp-content/uploads/2018/09/mother1.jpg
END:VEVENT
END:VCALENDAR